Workbook

Sheet Περιβάλλον
A2: ΚΑΤΗΓΟΡΙΕΣ ΧΩΡΩΝ | B2: ΚΑΘΑΡΕΣ ΕΠΙΦΑΝΕΙΕΣ (τ.μ.) | C2: Οικόπεδο | D2: Ε123 | E2: Ε4 | F2: Αύλειος
A3: Περιβάλλων χώρος | B3: =C3-D3-E3-F3 -> 8300 | C3: 15000 | D3: 3600 | E3: 1100 | F3: 2000
A4: Υπαίθριος χώρος στάθμευσης αυτοκινήτων | B4: =C4 -> 3900 | C4: 3900

Sheet Ε1
C3: ΑΝΑΛΥΣΗ ΕΠΙΦΑΝΕΙΩΝ
A4: ΚΑΤΗΓΟΡΙΕΣ ΧΩΡΩΝ | B4: ΚΑΘΑΡΕΣ ΕΠΙΦΑΝΕΙΕΣ (τ.μ.) | C4: Υπόγειο | D4: Μ0 | E4: Ισόγειο | F4: Μ1 | G4: 1ος | H4: Μ2 | I4: 2ος | J4: Μ3 | M4: Γραμμή | N4: Σύμβαση 2013 | O4: Σύμβαση 2014
A5: Κλιμακοστάσια | B5: =SUM(C5:J5) -> 175 | C5: 25 | D5: 20 | E5: 25 | F5: 20 | G5: 20 | H5: 20 | I5: 25 | J5: 20 | M5: =ROW() -> 5 | N5: α | O5: α
A6: Κοινόχρηστοι χώροι (διάδρομοι φουαγιέ) | B6: =SUM(C6:J6) -> 343 | C6: 73 | E6: 155 | I6: 115 | M6: =ROW() -> 6 | N6: β | O6: β
A7: Γραφεία εκτός εργαστηρίων | B7: =SUM(C7:J7) -> 236 | E7: 51 | I7: 185 | M7: =ROW() -> 7 | N7: γ | O7: γ
A8: Τουαλέτες | B8: =SUM(C8:J8) -> 46 | E8: 36 | I8: 10 | M8: =ROW() -> 8 | N8: δ | O8: δ
A9: Εργαστήρια | B9: =SUM(C9:J9) -> 885 | C9: 53 | E9: 362 | I9: 470 | M9: =ROW() -> 9 | N9: ε | O9: ε
A10: Πτέρυγα Χειρουργείων | B10: =SUM(C10:J10) -> 1100 | G10: 1100 | M10: =ROW() -> 10 | N10: στ | O10: στ
A11: Διαδρομος επικοινωνίας ΜΖΠ | B11: =SUM(C11:J11) -> 87 | C11: 87 | M11: =ROW() -> 11 | N11: η | O11: ζ
A12: Μονάδα PET camera | B12: =SUM(C12:J12) -> 0 | M12: =ROW() -> 12 | N12: θ | O12: η
A13: Αμφιθέατρο | B13: =SUM(C13:J13) -> 0 | M13: =ROW() -> 13 | N13: ι | O13: θ
A14: Αίθουσες Σεμιναρίων | B14: =SUM(C14:J14) -> 0 | M14: =ROW() -> 14 | N14: ια | O14: ι
A15: Βιβλιοθήκη | B15: =SUM(C15:J15) -> 0 | M15: =ROW() -> 15 | N15: ιβ | O15: ια
A16: Κυλικείο (τραπεζαρία) | B16: =SUM(C16:J16) -> 185 | E16: 185 | M16: =ROW() -> 16 | N16: ιγ | O16: ιβ
A17: Κυλικείο (κουζίνα) | B17: =SUM(C17:J17) -> 40 | E17: 40 | M17: =ROW() -> 17 | N17: ιγ΄ | O17: ιβ΄
A18: Ανελκυστήρες | B18: =SUM(C18:J18) -> 15 | C18: 15 | M18: =ROW() -> 18 | N18: ιδ | O18: ιγ
A19: Ημιυπαίθριοι χώροι | B19: =SUM(C19:J19) -> 210 | E19: 210 | M19: =ROW() -> 19 | N19: ιστ | O19: ιδ
A20: Αύλειος Χώρος | B20: =SUM(C20:J20) -> 0 | M20: =ROW() -> 20 | N20: ιζ | O20: ιε
A21: Πάρκινγκ | B21: =SUM(C21:J21) -> 0 | M21: =ROW() -> 21 | N21: ιη | O21: ιστ
A22: Υαλοπίνακες εξωτερικοί | B22: =SUM(C22:J22) -> 0 | M22: =ROW() -> 22 | N22: ιθ | O22: ιζ
A23: Περσίδες | B23: =SUM(C23:J23) -> 0 | M23: =ROW() -> 23 | N23: κ | O23: ιη
A24: Εξώστες | B24: =SUM(C24:J24) -> 250 | I24: 250 | M24: =ROW() -> 24 | N24: κα | O24: ιθ
A25: ΓΕΝΙΚΑ ΣΥΝΟΛΑ Ε1 | B25: =SUM(B5:B24) -> 3572 | C25: =SUM(C5:C24) -> 253 | D25: =SUM(D5:D24) -> 20 | E25: =SUM(E5:E24) -> 1064 | F25: =SUM(F5:F24) -> 20 | G25: =SUM(G5:G24) -> 1120 | H25: =SUM(H5:H24) -> 20 | I25: =SUM(I5:I24) -> 1055 | J25: =SUM(J5:J24) -> 20 | N25: =COUNTA(N5:N24) -> 20 | O25: =COUNTA(O5:O24) -> 20
A29: Η/Μ Εγκαταστάσεις | B29: =SUM(C29:J29) -> 1625 | C29: 0 | D29: 440 | E29: 0 | F29: 410 | G29: 0 | H29: 480 | I29: 0 | J29: 295
A30: ΑΠΟΘΗΚΕΣ | B30: =SUM(C30:J30) -> 0 | C30: 0 | D30: 0 | E30: 0 | F30: 0 | G30: 0 | H30: 0 | I30: 0 | J30: 0 | N30: ιε

Sheet Ε2
C3: ΑΝΑΛΥΣΗ ΕΠΙΦΑΝΕΙΩΝ
A4: ΚΑΤΗΓΟΡΙΕΣ ΧΩΡΩΝ | B4: ΚΑΘΑΡΕΣ ΕΠΙΦΑΝΕΙΕΣ (τ.μ.) | C4: Υπόγειο | D4: Μ0 | E4: Ισόγειο | F4: Μ1 | G4: 1ος | H4: Μ2 | I4: 2ος | J4: Μ3 | M4: Γραμμή | N4: Σύμβαση 2013 | O4: Σύμβαση 2014
A5: Κλιμακοστάσια | B5: =SUM(C5:J5) -> 228 | C5: 30 | D5: 22 | E5: 58 | F5: 30 | G5: 22 | H5: 22 | I5: 22 | J5: 22 | M5: =ROW() -> 5 | N5: α | O5: α
A6: Κοινόχρηστοι χώροι (διάδρομοι φουαγιέ) | B6: =SUM(C6:J6) -> 493 | C6: 65 | E6: 135 | G6: 150 | I6: 143 | M6: =ROW() -> 6 | N6: β | O6: β
A7: Γραφεία εκτός εργαστηρίων | B7: =SUM(C7:J7) -> 509 | C7: 22 | E7: 160 | F7: 84 | I7: 243 | M7: =ROW() -> 7 | N7: γ | O7: γ
A8: Τουαλέτες | B8: =SUM(C8:J8) -> 112 | E8: 68 | F8: 9 | G8: 25 | I8: 10 | M8: =ROW() -> 8 | N8: δ | O8: δ
A9: Εργαστήρια | B9: =SUM(C9:J9) -> 1566 | C9: 30 | E9: 15 | G9: 995 | I9: 526 | M9: =ROW() -> 9 | N9: ε | O9: ε
A10: Πτέρυγα Χειρουργείων | B10: =SUM(C10:J10) -> 0 | M10: =ROW() -> 10 | N10: στ | O10: στ
A11: Διαδρομος επικοινωνίας ΜΖΠ | B11: =SUM(C11:J11) -> 0 | M11: =ROW() -> 11 | N11: η | O11: ζ
A12: Μονάδα PET camera | B12: =SUM(C12:J12) -> 0 | M12: =ROW() -> 12 | N12: θ | O12: η
A13: Αμφιθέατρο | B13: =SUM(C13:J13) -> 470 | E13: 445 | F13: 25 | M13: =ROW() -> 13 | N13: ι | O13: θ
A14: Αίθουσες Σεμιναρίων | B14: =SUM(C14:J14) -> 0 | M14: =ROW() -> 14 | N14: ια | O14: ι
A15: Βιβλιοθήκη | B15: =SUM(C15:J15) -> 0 | M15: =ROW() -> 15 | N15: ιβ | O15: ια
A16: Κυλικείο (τραπεζαρία) | B16: =SUM(C16:J16) -> 0 | M16: =ROW() -> 16 | N16: ιγ | O16: ιβ
A17: Κυλικείο (κουζίνα) | B17: =SUM(C17:J17) -> 0 | M17: =ROW() -> 17 | N17: ιγ΄ | O17: ιβ΄
A18: Ανελκυστήρες | B18: =SUM(C18:J18) -> 5 | C18: 5 | M18: =ROW() -> 18 | N18: ιδ | O18: ιγ
A19: Ημιυπαίθριοι χώροι | B19: =SUM(C19:J19) -> 260 | E19: 260 | M19: =ROW() -> 19 | N19: ιστ | O19: ιδ
A20: Αύλειος Χώρος | B20: =SUM(C20:J20) -> 0 | M20: =ROW() -> 20 | N20: ιζ | O20: ιε
A21: Πάρκινγκ | B21: =SUM(C21:J21) -> 0 | M21: =ROW() -> 21 | N21: ιη | O21: ιστ
A22: Υαλοπίνακες εξωτερικοί | B22: =SUM(C22:J22) -> 0 | M22: =ROW() -> 22 | N22: ιθ | O22: ιζ
A23: Περσίδες | B23: =SUM(C23:J23) -> 0 | M23: =ROW() -> 23 | N23: κ | O23: ιη
A24: Εξώστες | B24: =SUM(C24:J24) -> 260 | I24: 260 | M24: =ROW() -> 24 | N24: κα | O24: ιθ
A25: ΓΕΝΙΚΑ ΣΥΝΟΛΑ Ε2 | B25: =SUM(B5:B24) -> 3903 | C25: =SUM(C5:C24) -> 152 | D25: =SUM(D5:D24) -> 22 | E25: =SUM(E5:E24) -> 1141 | F25: =SUM(F5:F24) -> 148 | G25: =SUM(G5:G24) -> 1192 | H25: =SUM(H5:H24) -> 22 | I25: =SUM(I5:I24) -> 1204 | J25: =SUM(J5:J24) -> 22
A27: Η/Μ Εγκαταστάσεις | B27: =SUM(C27:J27) -> 2378 | C27: 1150 | D27: 268 | E27: 0 | F27: 0 | G27: 0 | H27: 630 | I27: 0 | J27: 330
A28: ΑΠΟΘΗΚΕΣ | B28: =SUM(C28:J28) -> 275 | C28: 92 | D28: 98 | E28: 85 | F28: 0 | G28: 0 | H28: 0 | I28: 0 | J28: 0 | N28: ιε

Sheet Ε3
C3: ΑΝΑΛΥΣΗ ΕΠΙΦΑΝΕΙΩΝ
A4: ΚΑΤΗΓΟΡΙΕΣ ΧΩΡΩΝ | B4: ΚΑΘΑΡΕΣ ΕΠΙΦΑΝΕΙΕΣ (τ.μ.) | C4: Υπόγειο | D4: Μ0 | E4: Ισόγειο | F4: Μ1 | G4: 1ος | H4: 2ος | I4: 3ος | J4: 4ος | K4: Δώμα | M4: Γραμμή | N4: Σύμβαση 2013 | O4: Σύμβαση 2014
A5: Κλιμακοστάσια | B5: =SUM(C5:K5) -> 502 | C5: 70 | E5: 72 | F5: 60 | G5: 72 | H5: 72 | I5: 72 | J5: 72 | K5: 12 | M5: =ROW() -> 5 | N5: α | O5: α
A6: Κοινόχρηστοι χώροι (διάδρομοι φουαγιέ) | B6: =SUM(C6:K6) -> 1397 | C6: 210 | E6: 480 | G6: 285 | H6: 80 | I6: 284 | J6: 30 | K6: 28 | M6: =ROW() -> 6 | N6: β | O6: β
A7: Γραφεία εκτός εργαστηρίων | B7: =SUM(C7:K7) -> 513 | C7: 70 | E7: 0 | G7: 118 | H7: 85 | I7: 120 | J7: 120 | K7: 0 | M7: =ROW() -> 7 | N7: γ | O7: γ
A8: Τουαλέτες | B8: =SUM(C8:K8) -> 111 | C8: 6 | E8: 20 | G8: 30 | H8: 30 | I8: 15 | J8: 10 | K8: 0 | M8: =ROW() -> 8 | N8: δ | O8: δ
A9: Εργαστήρια | B9: =SUM(C9:K9) -> 410 | C9: 250 | G9: 150 | I9: 10 | M9: =ROW() -> 9 | N9: ε | O9: ε
A10: Πτέρυγα Χειρουργείων | B10: =SUM(C10:K10) -> 0 | M10: =ROW() -> 10 | N10: στ | O10: στ
A11: Διαδρομος επικοινωνίας ΜΖΠ | B11: =SUM(C11:K11) -> 0 | M11: =ROW() -> 11 | N11: η | O11: ζ
A12: Μονάδα PET camera | B12: =SUM(C12:K12) -> 0 | M12: =ROW() -> 12 | N12: θ | O12: η
A13: Αμφιθέατρο | B13: =SUM(C13:K13) -> 0 | M13: =ROW() -> 13 | N13: ι | O13: θ
A14: Αίθουσες Σεμιναρίων | B14: =SUM(C14:K14) -> 290 | E14: 140 | I14: 150 | M14: =ROW() -> 14 | N14: ια | O14: ι
A15: Βιβλιοθήκη | B15: =SUM(C15:K15) -> 0 | M15: =ROW() -> 15 | N15: ιβ | O15: ια
A16: Κυλικείο (τραπεζαρία) | B16: =SUM(C16:K16) -> 0 | M16: =ROW() -> 16 | N16: ιγ | O16: ιβ
A17: Κυλικείο (κουζίνα) | B17: =SUM(C17:K17) -> 0 | M17: =ROW() -> 17 | N17: ιγ΄ | O17: ιβ΄
A18: Ανελκυστήρες | B18: =SUM(C18:K18) -> 15 | C18: 15 | M18: =ROW() -> 18 | N18: ιδ | O18: ιγ
A19: Ημιυπαίθριοι χώροι | B19: =SUM(C19:K19) -> 175 | E19: 175 | M19: =ROW() -> 19 | N19: ιστ | O19: ιδ
A20: Αύλειος Χώρος | B20: =SUM(C20:K20) -> 0 | M20: =ROW() -> 20 | N20: ιζ | O20: ιε
A21: Πάρκινγκ | B21: =SUM(C21:K21) -> 0 | M21: =ROW() -> 21 | N21: ιη | O21: ιστ
A22: Υαλοπίνακες εξωτερικοί | B22: =SUM(C22:K22) -> 0 | M22: =ROW() -> 22 | N22: ιθ | O22: ιζ
A23: Περσίδες | B23: =SUM(C23:K23) -> 0 | M23: =ROW() -> 23 | N23: κ | O23: ιη
A24: Εξώστες | B24: =SUM(C24:K24) -> 175 | J24: 175 | M24: =ROW() -> 24 | N24: κα | O24: ιθ
A25: ΓΕΝΙΚΑ ΣΥΝΟΛΑ Ε3 | B25: =SUM(B5:B24) -> 3588 | C25: =SUM(C5:C24) -> 621 | D25: =SUM(D5:D24) -> 0 | E25: =SUM(E5:E24) -> 887 | F25: =SUM(F5:F24) -> 60 | G25: =SUM(G5:G24) -> 655 | H25: =SUM(H5:H24) -> 267 | I25: =SUM(I5:I24) -> 651 | J25: =SUM(J5:J24) -> 407
A27: Η/Μ Εγκαταστάσεις | B27: =SUM(C27:J27) -> 532 | C27: 152 | D27: 0 | E27: 0 | F27: 130 | G27: 0 | H27: 170 | I27: 0 | J27: 80
A28: ΑΠΟΘΗΚΕΣ | B28: =SUM(C28:L28) -> 79.5 | C28: 22 | D28: 0 | E28: 0 | F28: 20 | G28: 0 | H28: 24 | I28: 6.5 | J28: 7 | N28: ιε

Sheet Ε4
C3: ΑΝΑΛΥΣΗ ΕΠΙΦΑΝΕΙΩΝ
A4: ΚΑΤΗΓΟΡΙΕΣ ΧΩΡΩΝ | B4: ΚΑΘΑΡΕΣ ΕΠΙΦΑΝΕΙΕΣ (τ.μ.) | C4: Υπόγειο | D4: Μ0 | E4: Ισόγειο | F4: Μ1 | G4: 1ος | H4: Μ2 | I4: 2ος | J4: Μ3 | M4: Γραμμή | N4: Σύμβαση 2013 | O4: Σύμβαση 2014
A5: Κλιμακοστάσια | B5: =SUM(C5:J5) -> 295 | C5: 70 | E5: 70 | F5: 70 | G5: 70 | I5: 15 | M5: =ROW() -> 5 | N5: α | O5: α
A6: Κοινόχρηστοι χώροι (διάδρομοι φουαγιέ) | B6: =SUM(C6:J6) -> 685 | C6: 130 | E6: 145 | F6: 145 | G6: 165 | I6: 100 | M6: =ROW() -> 6 | N6: β | O6: β
A7: Γραφεία εκτός εργαστηρίων | B7: =SUM(C7:J7) -> 617 | E7: 130 | F7: 200 | G7: 152 | I7: 135 | M7: =ROW() -> 7 | N7: γ | O7: γ
A8: Τουαλέτες | B8: =SUM(C8:J8) -> 85 | E8: 25 | F8: 20 | G8: 25 | I8: 15 | M8: =ROW() -> 8 | N8: δ | O8: δ
A9: Εργαστήρια | B9: =SUM(C9:J9) -> 80 | E9: 80 | M9: =ROW() -> 9 | N9: ε | O9: ε
A10: Πτέρυγα Χειρουργείων | B10: =SUM(C10:J10) -> 0 | M10: =ROW() -> 10 | N10: στ | O10: στ
A11: Διαδρομος επικοινωνίας ΜΖΠ | B11: =SUM(C11:J11) -> 0 | M11: =ROW() -> 11 | N11: η | O11: ζ
A12: Μονάδα PET camera | B12: =SUM(C12:J12) -> 240 | C12: 240 | M12: =ROW() -> 12 | N12: θ | O12: η
A13: Αμφιθέατρο | B13: =SUM(C13:J13) -> 0 | M13: =ROW() -> 13 | N13: ι | O13: θ
A14: Αίθουσες Σεμιναρίων | B14: =SUM(C14:J14) -> 0 | M14: =ROW() -> 14 | N14: ια | O14: ι
A15: Βιβλιοθήκη | B15: =SUM(C15:J15) -> 160 | G15: 160 | M15: =ROW() -> 15 | N15: ιβ | O15: ια
A16: Κυλικείο (τραπεζαρία) | B16: =SUM(C16:J16) -> 0 | M16: =ROW() -> 16 | N16: ιγ | O16: ιβ
A17: Κυλικείο (κουζίνα) | B17: =SUM(C17:J17) -> 0 | M17: =ROW() -> 17 | N17: ιγ΄ | O17: ιβ΄
A18: Ανελκυστήρες | B18: =SUM(C18:J18) -> 8 | C18: 8 | M18: =ROW() -> 18 | N18: ιδ | O18: ιγ
A19: Ημιυπαίθριοι χώροι | B19: =SUM(C19:J19) -> 200 | E19: 200 | M19: =ROW() -> 19 | N19: ιστ | O19: ιδ
A20: Αύλειος Χώρος | B20: =SUM(C20:J20) -> 0 | M20: =ROW() -> 20 | N20: ιζ | O20: ιε
A21: Πάρκινγκ | B21: =SUM(C21:J21) -> 0 | M21: =ROW() -> 21 | N21: ιη | O21: ιστ
A22: Υαλοπίνακες εξωτερικοί | B22: =SUM(C22:J22) -> 0 | M22: =ROW() -> 22 | N22: ιθ | O22: ιζ
A23: Περσίδες | B23: =SUM(C23:J23) -> 0 | M23: =ROW() -> 23 | N23: κ | O23: ιη
A24: Εξώστες | B24: =SUM(C24:J24) -> 0 | M24: =ROW() -> 24 | N24: κα | O24: ιθ
A25: ΓΕΝΙΚΑ ΣΥΝΟΛΑ Ε4 | B25: =SUM(B5:B24) -> 2370 | C25: =SUM(C5:C24) -> 448 | D25: =SUM(D5:D24) -> 0 | E25: =SUM(E5:E24) -> 650 | F25: =SUM(F5:F24) -> 435 | G25: =SUM(G5:G24) -> 572 | H25: =SUM(H5:H24) -> 0 | I25: =SUM(I5:I24) -> 265 | J25: =SUM(J5:J24) -> 0
A27: Η/Μ Εγκαταστάσεις | B27: =SUM(C27:J27) -> 390 | C27: 390 | D27: 0 | E27: 0 | F27: 0 | G27: 0 | H27: 0 | I27: 0 | J27: 0
A28: ΑΠΟΘΗΚΕΣ | B28: =SUM(C28:J28) -> 78 | C28: 68 | F28: 10 | N28: ιε

Sheet επιφ.καθαρ.από πρωινούς
A3: Επιπλέον επιφάνειες που καθαρίζονται από τους πρωινούς
A4: Περιβάλλων χώρος | B4: =Περιβάλλον!B3 -> 8300 | C4: m2
A5: Υπαίθριος χώρος στάθμευσης | B5: =Περιβάλλον!B4 -> 3900 | C5: m2
A6: Η/Μ εγκαταστάσεις | B6: =Ε1!B29+Ε2!B27+Ε3!B27+Ε4!B27 -> 4925 | C6: m2
A7: Αποθήκες | B7: =Ε1!B30+Ε2!B28+Ε3!B28+Ε4!B28 -> 432.5 | C7: m2
A9: Συνολικά | B9: =SUM(B4:B7) -> 17557.5 | C9: m2
B13: =SUM(B6:B7) -> 5357.5
B14: =#REF! -> #REF!
B15: =SUM(B13:B14) -> #REF!

Sheet ΑΡΓΙΕΣ
C2: Κατ' έθιμον | D2: Προαιρετικές | E2: Υποχρεωτικές | F2: ΑΡΓΙΕΣ
C3: Ε | F3: 1 ΙΑΝΟΥΑΡΙΟΥ
C4: Ε | F4: 6 ΙΑΝΟΥΑΡΙΟΥ
C5: Ε | F5: ΚΑΘΑΡΗ ΔΕΥΤΕΡΑ
E6: Υ | F6: 25 ΜΑΡΤΙΟΥ
C7: Ε | F7: Μ ΠΑΡΑΣΚΕΥΗ
E8: Υ | F8: ΔΕΥΤΕΡΑ ΠΑΣΧΑ
D9: Π | F9: 1 ΜΑΪΟΥ
C10: Ε | F10: ΑΓΙΟΥ ΠΝΕΥΜΑΤΟΣ
E11: Υ | F11: 15 ΑΥΓΟΥΣΤΟΥ
D12: Π | F12: 28 ΟΚΤΩΒΡΙΟΥ
E13: Υ | F13: 25 ΔΕΚΕΜΒΡΙΟΥ
C14: Ε | F14: 26 ΔΕΚΕΜΒΡΙΟΥ
A15: SUM= | B15: =SUM(C15:E15) -> 12 | C15: =COUNTA(C3:C14) -> 6 | D15: =COUNTA(D3:D14) -> 2 | E15: =COUNTA(E3:E14) -> 4 | F15: =COUNTA(F3:F14) -> 12

Sheet Τιμές
B1: Έκπτωση εργασιών | E1: 0.05
B2: Σύμβαση 2016 | C2: Βασικός | D2: Τιμή | E2: Περιοδικός | F2: Τιμή | G2: Γενικός | H2: Τιμή | I2: Γραμμή
A3: α | B3: Κλιμακοστάσια | C3: 0.0205 | D3: =ROUND((1+$E$1)*C3,4) -> 0.0215 | E3: 0.034 | F3: 0.035 | G3: 0.05 | H3: =ROUND((1+$E$1)*G3,4) -> 0.0525 | I3: =ROW() -> 3 | P3: 0.0216
A4: β | B4: Κοινόχρηστοι χώροι (διάδρομοι φουαγιέ) | C4: 0.02 | D4: =ROUND((1+$E$1)*C4,4) -> 0.021 | E4: 0.029 | F4: =ROUND((1+$E$1)*E4,4) -> 0.0305 | G4: 0.03 | H4: =ROUND((1+$E$1)*G4,4) -> 0.0315 | I4: =ROW() -> 4 | P4: 0.0216
A5: γ | B5: Γραφεία εκτός εργαστηρίων | C5: 0.03 | D5: =ROUND((1+$E$1)*C5,4) -> 0.0315 | E5: 0.025 | F5: =ROUND((1+$E$1)*E5,4) -> 0.0263 | G5: 0.03 | H5: =ROUND((1+$E$1)*G5,4) -> 0.0315 | I5: =ROW() -> 5 | P5: 0.0324
A6: δ | B6: Τουαλέτες | C6: 0.027 | D6: =ROUND((1+$E$1)*C6,4) -> 0.0284 | E6: 0.02 | F6: =ROUND((1+$E$1)*E6,4) -> 0.021 | G6: 0.8 | H6: =ROUND((1+$E$1)*G6,4) -> 0.84 | I6: =ROW() -> 6 | P6: 0.027
A7: ε | B7: Εργαστήρια | C7: 0.04 | D7: =ROUND((1+$E$1)*C7,4) -> 0.042 | E7: 0.05 | F7: =ROUND((1+$E$1)*E7,4) -> 0.0525 | G7: 0.15 | H7: =ROUND((1+$E$1)*G7,4) -> 0.1575 | I7: =ROW() -> 7 | P7: 0.0431
A8: στ | B8: Πτέρυγα Χειρουργείων | C8: 0.04 | D8: =ROUND((1+$E$1)*C8,4) -> 0.042 | E8: 0.07 | F8: =ROUND((1+$E$1)*E8,4) -> 0.0735 | G8: 0 | H8: =ROUND((1+$E$1)*G8,4) -> 0 | I8: =ROW() -> 8 | P8: 0.0431
A9: ζ | B9: Διαδρομος επικοινωνίας ΜΖΠ | C9: 0.03 | D9: =ROUND((1+$E$1)*C9,4) -> 0.0315 | E9: 0 | F9: =ROUND((1+$E$1)*E9,4) -> 0 | G9: 0 | H9: =ROUND((1+$E$1)*G9,4) -> 0 | I9: =ROW() -> 9 | P9: 0.0324
A10: η | B10: Μονάδα PET camera | C10: 0.04 | D10: =ROUND((1+$E$1)*C10,4) -> 0.042 | E10: 0.05 | F10: =ROUND((1+$E$1)*E10,4) -> 0.0525 | G10: 0.12 | H10: =ROUND((1+$E$1)*G10,4) -> 0.126 | I10: =ROW() -> 10 | P10: 0.0431
A11: θ | B11: Αμφιθέατρο | C11: 0.07 | D11: =ROUND((1+$E$1)*C11,4) -> 0.0735 | E11: 0 | F11: =ROUND((1+$E$1)*E11,4) -> 0 | G11: 0.1 | H11: =ROUND((1+$E$1)*G11,4) -> 0.105 | I11: =ROW() -> 11 | P11: 0.0755
A12: ι | B12: Αίθουσες Σεμιναρίων | C12: 0.025 | D12: =ROUND((1+$E$1)*C12,4) -> 0.0263 | E12: 0.03 | F12: =ROUND((1+$E$1)*E12,4) -> 0.0315 | G12: 0.05 | H12: =ROUND((1+$E$1)*G12,4) -> 0.0525 | I12: =ROW() -> 12 | P12: 0.027
A13: ια | B13: Βιβλιοθήκη | C13: 0.025 | D13: =ROUND((1+$E$1)*C13,4) -> 0.0263 | E13: 0.03 | F13: =ROUND((1+$E$1)*E13,4) -> 0.0315 | G13: 0.08 | H13: =ROUND((1+$E$1)*G13,4) -> 0.084 | I13: =ROW() -> 13 | P13: 0.027
A14: ιβ | B14: Κυλικείο (τραπεζαρία) | C14: 0.025 | D14: =ROUND((1+$E$1)*C14,4) -> 0.0263 | E14: 0.07 | F14: =ROUND((1+$E$1)*E14,4) -> 0.0735 | G14: 0 | H14: =ROUND((1+$E$1)*G14,4) -> 0 | I14: =ROW() -> 14 | P14: 0.0324
A15: ιβ΄ | B15: Κυλικείο (κουζίνα) | C15: 0 | D15: =ROUND((1+$E$1)*C15,4) -> 0 | E15: 0 | F15: =ROUND((1+$E$1)*E15,4) -> 0 | G15: 0.07 | H15: =ROUND((1+$E$1)*G15,4) -> 0.0735 | I15: =ROW() -> 15 | P15: 0
... A22: ιθ | B22: Εξώστες | C22: 0.012 | D22: =ROUND((1+$E$1)*C22,4) -> 0.0126 | E22: 0 | F22: =ROUND((1+$E$1)*E22,4) -> 0 | G22: 0 | H22: =ROUND((1+$E$1)*G22,4) -> 0 | I22: =ROW() -> 22 | P22: 0.0129
B24: Έκπτωση εργατών | E24: -0.02
B25: Εργάτης / Εργάτρια | C25: 36.5 | D25: =ROUND((1+$E$24)*C25,4) -> 35.77 | I25: =ROW() -> 25 | K25: 26.18 | L25: =(1+0.27+0.1)*K25 -> 35.8666
K27: Συμμετοχή εργοδότη απλά | L27: 0.2456
K28: Συμμετοχή εργοδότη βαρέα | L28: 0.2671

Sheet Βαθμολογία
D2: Διαγωνισμός 2016
B3: 1.1. | C3: Εμπειρία παροχής υπηρεσιών καθαριότητας σε μεγάλες κτιριακές μονάδες του ευρύτερου δημοσίου και ιδιωτικού τομέα (εκπαιδευτικά, ερευνητικά και νοσηλευτικά ιδρύματα κλπ). | D3: 15
B4: 1.2. | C4: Συμφωνία της προσφοράς με την τεχνική περιγραφή και τους όρους της διακήρυξης | D4: 15
B5: 1.3. | C5: Αρτιότητα του επιχειρησιακού σχεδίου υλοποίησης των απαιτούμενων εργασιών καθαρισμού | D5: 35
B6: 1.4. | C6: Ικανότητα συνεργασίας που αποδεικνύεται από τους φορείς που έχει συνεργαστεί | D6: 15
B7: 2.1. | C7: Δυνατότητα επιπρόσθετων παρεχομένων υπηρεσιών | D7: 10
B8: 2.2. | C8: Ο μέσος συνολικός αριθμός ανά έτος των εργαζομένων του υποψηφίου (τελευταίων 3 ετών) | D8: 5
B9: 2.3. | C9: Δυνατότητα άμεσης επικοινωνίας με το κέντρο επιχειρήσεων, συνεργασίας και επέμβασης του διαγωνιζόμενου στις εγκαταστάσεις παροχής της υπηρεσίας σε περιπτώσεις έκτακτης ανάγκης | D9: 5
D10: =SUM(D3:D9) -> 100

Sheet Sheet1
A2: Περίπτωση | C2: Προϋπολογισμός έτους | D2: Μήνες / έτος | E2: Μέση μηνιαία δαπάνη | F2: Μήνες παράτασης ή ανανέωσης της σύμβασης | G2: Δαπάνη παράτασης | H2: Αναλογία παράταση επί έτους | I2: Σύνολο
A3: 1 | B3: Συνολικός προϋπολογισμός με δικαίωμα παράτασης | C3: 170000 | D3: 12 | E3: =C3/D3 -> 14166.667 | F3: 4 | G3: =F3*E3 -> 56666.667 | H3: =G3/C3 -> 0.33333333 | I3: =C3+G3 -> 226666.67
A4: 2 | B4: Συνολικός προϋπολογισμός με δικαίωμα παράτασης | C4: 170000 | D4: 12 | E4: =C4/D4 -> 14166.667 | F4: 12 | G4: =F4*E4 -> 170000 | H4: =G4/C4 -> 1 | I4: =C4+G4 -> 340000
A5: 3 | B5: Συνολικός προϋπολογισμός με δικαίωμα παράτασης | C5: 170000 | D5: 12 | E5: =C5/D5 -> 14166.667 | F5: 3 | G5: =F5*E5 -> 42500 | H5: =G5/C5 -> 0.25 | I5: =C5+G5 -> 212500
A6: 4 | B6: Συνολικός προϋπολογισμός με δικαίωμα παράτασης | C6: 170000 | D6: 12 | E6: =C6/D6 -> 14166.667 | F6: =3+3+12 -> 18 | G6: =F6*E6 -> 255000 | H6: =G6/C6 -> 1.5 | I6: =C6+G6 -> 425000

Sheet Πίνακας Δ2_ΔΙΑΚΗΡΥΞΗΣ
A2: ΚΑΘΑΡΙΣΜΟΣ ΚΤΗΡΙΑΚΩΝ ΕΓΚΑΤΑΣΤΑΣΕΩΝ ΙΙΒΕΑΑ: ΤΜΗΜΑ Α
G3: 44 | H3: 22 | I3: 5 | J3: 1 | K3: ΣΥΝΟΛΙΚΗ ΜΗΝΙΑΙΑ ΔΑΠΑΝΗ ΣΕ ΕΥΡΩ | L3: =3/12 -> 0.25 | M3: =2/12 -> 0.16666667 | N3: =1/12 -> 0.083333333 | O3: ΣΥΝΟΛΙΚΗ ΕΤΗΣΙΑ ΔΑΠΑΝΗ ΣΕ ΕΥΡΩ
A4: ΠΡΟΓΡΑΜΜΑΤΙΣΜΟΣ ΚΑΘΑΡΙΣΜΟΥ ΧΩΡΩΝ ΙΙΒΕΑΑ 2023 - 2024 | G4: σαράντα τέσσερις φορές το μήνα | H4: είκοσι δύο φορές το μήνα | I4: πέντε φορές το μήνα | J4: μία φορά το μήνα | L4: κάθε τέσσερις μήνες | M4: κάθε έξι μήνες | N4: κάθε δώδεκα μήνες
A5: Α/Α | B5: ΚΑΤΗΓΟΡΙΕΣ ΧΩΡΩΝ | C5: ΚΑΘΑΡΕΣ ΕΠΙΦΑΝΕΙΕΣ (τ.μ.) | D5: ΕΙΔΟΣ ΚΑΘΑΡΙΣΜΟΥ | H5: ΠΡΟΣΦΕΡΟΜΕΝΗ ΤΙΜΗ ΜΟΝΑΔΑΣ ΣΕ ΕΥΡΩ ΑΝΑ Τ.Μ., ΗΜΕΡΑ ΚΑΙ ΤΡΟΠΟ ΚΑΘΑΡΙΣΜΟΥ | L5: ΠΡΟΣΦΕΡΟΜΕΝΗ ΤΙΜΗ ΜΟΝΑΔΑΣ ΣΕ ΕΥΡΩ ΑΝΑ Τ.Μ., ΗΜΕΡΑ ΚΑΙ ΤΡΟΠΟ ΚΑΘΑΡΙΣΜΟΥ | M5: ΠΡΟΣΦΕΡΟΜΕΝΗ ΤΙΜΗ ΜΟΝΑΔΑΣ ΣΕ ΕΥΡΩ ΑΝΑ Τ.Μ., ΗΜΕΡΑ ΚΑΙ ΤΡΟΠΟ ΚΑΘΑΡΙΣΜΟΥ | N5: ΠΡΟΣΦΕΡΟΜΕΝΗ ΤΙΜΗ ΜΟΝΑΔΑΣ ΣΕ ΕΥΡΩ ΑΝΑ Τ.Μ., ΗΜΕΡΑ ΚΑΙ ΤΡΟΠΟ ΚΑΘΑΡΙΣΜΟΥ
A6: α | B6: Κλιμακο στάσια | C6: =C7 -> 1200 | D6: α1) | E6: Βασικός | K6: =ROUND($C6*(SUMPRODUCT(G$3:J$3,G6:J6)),4) -> 0 | O6: =ROUND(12*(K6+$C6*(SUMPRODUCT(L$3:N$3,L6:N6))),4) -> 0
C7: =Ε1!B5+Ε2!B5+Ε3!B5+Ε4!B5 -> 1200 | D7: α2) | E7: Περιοδικός | K7: =ROUND($C7*(SUMPRODUCT(G$3:J$3,G7:J7)),4) -> 0 | O7: =ROUND(12*(K7+$C7*(SUMPRODUCT(L$3:N$3,L7:N7))),4) -> 0
C8: =C7 -> 1200 | D8: α3) | E8: Γενικός | K8: =ROUND($C8*(SUMPRODUCT(G$3:J$3,G8:J8)),4) -> 0 | O8: =ROUND(12*(K8+$C8*(SUMPRODUCT(L$3:N$3,L8:N8))),4) -> 0
A9: β | B9: Κοινόχρηστοι Χώροι (διάδρομοι φουαγιέ σύνολο 2.918m2) | C9: =C11 -> 2918 | D9: β1) | E9: Βασικός | K9: =ROUND($C9*(SUMPRODUCT(G$3:J$3,G9:J9)),4) -> 0 | O9: =ROUND(12*(K9+$C9*(SUMPRODUCT(L$3:N$3,L9:N9))),4) -> 0
C10: 150 | D10: β2) | E10: Περιοδικός 1 | K10: =ROUND($C10*(SUMPRODUCT(G$3:J$3,G10:J10)),4) -> 0 | O10: =ROUND(12*(K10+$C10*(SUMPRODUCT(L$3:N$3,L10:N10))),4) -> 0
C11: =Ε1!B6+Ε2!B6+Ε3!B6+Ε4!B6 -> 2918 | D11: β3) | E11: Περιοδικός 2 | K11: =ROUND($C11*(SUMPRODUCT(G$3:J$3,G11:J11)),4) -> 0 | O11: =ROUND(12*(K11+$C11*(SUMPRODUCT(L$3:N$3,L11:N11))),4) -> 0
C12: =C11 -> 2918 | D12: β4) | E12: Γενικός | K12: =ROUND($C12*(SUMPRODUCT(G$3:J$3,G12:J12)),4) -> 0 | O12: =ROUND(12*(K12+$C12*(SUMPRODUCT(L$3:N$3,L12:N12))),4) -> 0
A13: γ | B13: Γραφεία εκτός εργαστηρίων | C13: =C14 -> 1875 | D13: γ1) | E13: Βασικός | K13: =ROUND($C13*(SUMPRODUCT(G$3:J$3,G13:J13)),4) -> 0 | O13: =ROUND(12*(K13+$C13*(SUMPRODUCT(L$3:N$3,L13:N13))),4) -> 0
C14: =Ε1!B7+Ε2!B7+Ε3!B7+Ε4!B7 -> 1875 | D14: γ2) | E14: Περιοδικός | K14: =ROUND($C14*(SUMPRODUCT(G$3:J$3,G14:J14)),4) -> 0 | O14: =ROUND(12*(K14+$C14*(SUMPRODUCT(L$3:N$3,L14:N14))),4) -> 0
C15: =C14 -> 1875 | D15: γ3) | E15: Γενικός | K15: =ROUND($C15*(SUMPRODUCT(G$3:J$3,G15:J15)),4) -> 0 | O15: =ROUND(12*(K15+$C15*(SUMPRODUCT(L$3:N$3,L15:N15))),4) -> 0
A16: δ | B16: Τουαλέτες (σύνολο 354m2) | C16: =Ε1!B8+Ε2!B8+Ε3!B8+Ε4!B8 -> 354 | D16: δ1) | E16: Βασικός | K16: =ROUND($C16*(SUMPRODUCT(G$3:J$3,G16:J16)),4) -> 0 | O16: =ROUND(12*(K16+$C16*(SUMPRODUCT(L$3:N$3,L16:N16))),4) -> 0
C17: 150 | D17: δ2) | E17: Περιοδικός | K17: =ROUND($C17*(SUMPRODUCT(G$3:J$3,G17:J17)),4) -> 0 | O17: =ROUND(12*(K17+$C17*(SUMPRODUCT(L$3:N$3,L17:N17))),4) -> 0
C18: =C16 -> 354 | D18: δ3) | E18: Γενικός | K18: =ROUND($C18*(SUMPRODUCT(G$3:J$3,G18:J18)),4) -> 0 | O18: =ROUND(12*(K18+$C18*(SUMPRODUCT(L$3:N$3,L18:N18))),4) -> 0
A19: ε | B19: Εργαστήρια (σύνολο 2.941m2) | C19: =Ε1!B9+Ε2!B9+Ε3!B9+Ε4!B9 -> 2941 | D19: ε1) | E19: Βασικός | K19: =ROUND($C19*(SUMPRODUCT(G$3:J$3,G19:J19)),4) -> 0 | O19: =ROUND(12*(K19+$C19*(SUMPRODUCT(L$3:N$3,L19:N19))),4) -> 0
C20: 200 | D20: ε2) | E20: Περιοδικός | K20: =ROUND($C20*(SUMPRODUCT(G$3:J$3,G20:J20)),4) -> 0 | O20: =ROUND(12*(K20+$C20*(SUMPRODUCT(L$3:N$3,L20:N20))),4) -> 0
C21: =C19 -> 2941 | D21: ε3) | E21: Γενικός | K21: =ROUND($C21*(SUMPRODUCT(G$3:J$3,G21:J21)),4) -> 0 | O21: =ROUND(12*(K21+$C21*(SUMPRODUCT(L$3:N$3,L21:N21))),4) -> 0
A22: στ | B22: Πτέρυγα Χειρουργείων (σύνολο 1.100m2) | C22: 132 | D22: στ1) | E22: Βασικός | K22: =ROUND($C22*(SUMPRODUCT(G$3:J$3,G22:J22)),4) -> 0 | O22: =ROUND(12*(K22+$C22*(SUMPRODUCT(L$3:N$3,L22:N22))),4) -> 0
C23: =Ε1!B10+Ε2!B10+Ε3!B10+Ε4!B10 -> 1100 | D23: στ2) | E23: Περιοδικός | K23: =ROUND($C23*(SUMPRODUCT(G$3:J$3,G23:J23)),4) -> 0 | O23: =ROUND(12*(K23+$C23*(SUMPRODUCT(L$3:N$3,L23:N23))),4) -> 0
A24: ζ | B24: Διαδρομος επικοινωνίας ΜΖΠ | C24: =Ε1!B11+Ε2!B11+Ε3!B11+Ε4!B11 -> 87 | D24: ζ1) | E24: Βασικός | K24: =ROUND($C24*(SUMPRODUCT(G$3:J$3,G24:J24)),4) -> 0 | O24: =ROUND(12*(K24+$C24*(SUMPRODUCT(L$3:N$3,L24:N24))),4) -> 0
A25: η | B25: Μονάδα PET camera | C25: =C26 -> 240 | D25: η1) | E25: Βασικός | K25: =ROUND($C25*(SUMPRODUCT(G$3:J$3,G25:J25)),4) -> 0 | O25: =ROUND(12*(K25+$C25*(SUMPRODUCT(L$3:N$3,L25:N25))),4) -> 0
C26: =Ε1!B12+Ε2!B12+Ε3!B12+Ε4!B12 -> 240 | D26: η2) | E26: Περιοδικός | K26: =ROUND($C26*(SUMPRODUCT(G$3:J$3,G26:J26)),4) -> 0 | O26: =ROUND(12*(K26+$C26*(SUMPRODUCT(L$3:N$3,L26:N26))),4) -> 0
C27: =C26 -> 240 | D27: η3) | E27: Γενικός | K27: =ROUND($C27*(SUMPRODUCT(G$3:J$3,G27:J27)),4) -> 0 | O27: =ROUND(12*(K27+$C27*(SUMPRODUCT(L$3:N$3,L27:N27))),4) -> 0
A28: θ | B28: Αμφιθέατρο | C28: =Ε1!B13+Ε2!B13+Ε3!B13+Ε4!B13 -> 470 | D28: θ1) | E28: Βασικός | K28: =ROUND($C28*(SUMPRODUCT(G$3:J$3,G28:J28)),4) -> 0 | O28: =ROUND(12*(K28+$C28*(SUMPRODUCT(L$3:N$3,L28:N28))),4) -> 0
C29: =C28 -> 470 | D29: θ2) | E29: Γενικός | K29: =ROUND($C29*(SUMPRODUCT(G$3:J$3,G29:J29)),4) -> 0 | O29: =ROUND(12*(K29+$C29*(SUMPRODUCT(L$3:N$3,L29:N29))),4) -> 0
A30: ι | B30: Αίθουσες Σεμιναρίων | C30: =C31 -> 290 | D30: ι1) | E30: Βασικός | K30: =ROUND($C30*(SUMPRODUCT(G$3:J$3,G30:J30)),4) -> 0 | O30: =ROUND(12*(K30+$C30*(SUMPRODUCT(L$3:N$3,L30:N30))),4) -> 0
C31: =Ε1!B14+Ε2!B14+Ε3!B14+Ε4!B14 -> 290 | D31: ι2) | E31: Περιοδικός | K31: =ROUND($C31*(SUMPRODUCT(G$3:J$3,G31:J31)),4) -> 0 | O31: =ROUND(12*(K31+$C31*(SUMPRODUCT(L$3:N$3,L31:N31))),4) -> 0
C32: =C31 -> 290 | D32: ι3) | E32: Γενικός | K32: =ROUND($C32*(SUMPRODUCT(G$3:J$3,G32:J32)),4) -> 0 | O32: =ROUND(12*(K32+$C32*(SUMPRODUCT(L$3:N$3,L32:N32))),4) -> 0
A33: ια | B33: Βιβλιοθήκη | C33: =C34 -> 160 | D33: ια1) | E33: Βασικός | K33: =ROUND($C33*(SUMPRODUCT(G$3:J$3,G33:J33)),4) -> 0 | O33: =ROUND(12*(K33+$C33*(SUMPRODUCT(L$3:N$3,L33:N33))),4) -> 0
C34: =Ε1!B15+Ε2!B15+Ε3!B15+Ε4!B15 -> 160 | D34: ια2) | E34: Περιοδικός | K34: =ROUND($C34*(SUMPRODUCT(G$3:J$3,G34:J34)),4) -> 0 | O34: =ROUND(12*(K34+$C34*(SUMPRODUCT(L$3:N$3,L34:N34))),4) -> 0
C35: =C34 -> 160 | D35: ια3) | E35: Γενικός | K35: =ROUND($C35*(SUMPRODUCT(G$3:J$3,G35:J35)),4) -> 0 | O35: =ROUND(12*(K35+$C35*(SUMPRODUCT(L$3:N$3,L35:N35))),4) -> 0
A36: ιβ | B36: Κυλικείο (τραπεζαρία) | C36: =Ε1!B16+Ε2!B16+Ε3!B16+Ε4!B16 -> 185 | D36: ιβ1) | E36: Βασικός | K36: =ROUND($C36*(SUMPRODUCT(G$3:J$3,G36:J36)),4) -> 0 | O36: =ROUND(12*(K36+$C36*(SUMPRODUCT(L$3:N$3,L36:N36))),4) -> 0
C37: =C36 -> 185 | D37: ιβ2) | E37: Περιοδικός | K37: =ROUND($C37*(SUMPRODUCT(G$3:J$3,G37:J37)),4) -> 0 | O37: =ROUND(12*(K37+$C37*(SUMPRODUCT(L$3:N$3,L37:N37))),4) -> 0
A38: ιβ΄ | B38: Κυλικείο (κουζίνα) | C38: =Ε1!B17+Ε2!B17+Ε3!B17+Ε4!B17 -> 40 | D38: ιβ' 1) | E38: Γενικός | K38: =ROUND($C38*(SUMPRODUCT(G$3:J$3,G38:J38)),4) -> 0 | O38: =ROUND(12*(K38+$C38*(SUMPRODUCT(L$3:N$3,L38:N38))),4) -> 0
A39: ιγ | B39: Ανελκυστήρες | C39: =Ε1!B18+Ε2!B18+Ε3!B18+Ε4!B18 -> 43 | D39: ιγ1) | E39: Βασικός | K39: =ROUND($C39*(SUMPRODUCT(G$3:J$3,G39:J39)),4) -> 0 | O39: =ROUND(12*(K39+$C39*(SUMPRODUCT(L$3:N$3,L39:N39))),4) -> 0
A40: ιδ | B40: Ημιυπαίθριοι χώροι | C40: =Ε1!B19+Ε2!B19+Ε3!B19+Ε4!B19 -> 845 | D40: ιδ1) | E40: Βασικός | K40: =ROUND($C40*(SUMPRODUCT(G$3:J$3,G40:J40)),4) -> 0 | O40: =ROUND(12*(K40+$C40*(SUMPRODUCT(L$3:N$3,L40:N40))),4) -> 0
C41: =C40 -> 845 | D41: ιδ2) | E41: Περιοδικός | K41: =ROUND($C41*(SUMPRODUCT(G$3:J$3,G41:J41)),4) -> 0 | O41: =ROUND(12*(K41+$C41*(SUMPRODUCT(L$3:N$3,L41:N41))),4) -> 0
...

Sheet Πίνακας Δ3
A2: ΚΑΘΑΡΙΣΜΟΣ ΚΤΗΡΙΑΚΩΝ ΕΓΚΑΤΑΣΤΑΣΕΩΝ ΙΙΒΕΑΑ: ΤΜΗΜΑ Α
G3: 44 | H3: 22 | I3: 5 | J3: 1 | K3: ΣΥΝΟΛΙΚΗ ΜΗΝΙΑΙΑ ΔΑΠΑΝΗ ΣΕ ΕΥΡΩ | L3: =3/12 -> 0.25 | M3: =2/12 -> 0.16666667 | N3: =1/12 -> 0.083333333 | O3: ΣΥΝΟΛΙΚΗ ΕΤΗΣΙΑ ΔΑΠΑΝΗ ΣΕ ΕΥΡΩ
A4: ΠΡΟΓΡΑΜΜΑΤΙΣΜΟΣ ΚΑΘΑΡΙΣΜΟΥ ΧΩΡΩΝ ΙΙΒΕΑΑ 2020 - 2021 | G4: σαράντα τέσσερις φορές το μήνα | H4: είκοσι δύο φορές το μήνα | I4: πέντε φορές το μήνα | J4: μία φορά το μήνα | L4: κάθε τέσσερις μήνες | M4: κάθε έξι μήνες | N4: κάθε δώδεκα μήνες
A5: Α/Α | B5: ΚΑΤΗΓΟΡΙΕΣ ΧΩΡΩΝ | C5: ΚΑΘΑΡΕΣ ΕΠΙΦΑΝΕΙΕΣ (τ.μ.) | D5: ΕΙΔΟΣ ΚΑΘΑΡΙΣΜΟΥ | H5: ΠΡΟΣΦΕΡΟΜΕΝΗ ΤΙΜΗ ΜΟΝΑΔΑΣ ΣΕ ΕΥΡΩ ΑΝΑ Τ.Μ., ΗΜΕΡΑ ΚΑΙ ΤΡΟΠΟ ΚΑΘΑΡΙΣΜΟΥ | L5: ΠΡΟΣΦΕΡΟΜΕΝΗ ΤΙΜΗ ΜΟΝΑΔΑΣ ΣΕ ΕΥΡΩ ΑΝΑ Τ.Μ., ΗΜΕΡΑ ΚΑΙ ΤΡΟΠΟ ΚΑΘΑΡΙΣΜΟΥ | M5: ΠΡΟΣΦΕΡΟΜΕΝΗ ΤΙΜΗ ΜΟΝΑΔΑΣ ΣΕ ΕΥΡΩ ΑΝΑ Τ.Μ., ΗΜΕΡΑ ΚΑΙ ΤΡΟΠΟ ΚΑΘΑΡΙΣΜΟΥ | N5: ΠΡΟΣΦΕΡΟΜΕΝΗ ΤΙΜΗ ΜΟΝΑΔΑΣ ΣΕ ΕΥΡΩ ΑΝΑ Τ.Μ., ΗΜΕΡΑ ΚΑΙ ΤΡΟΠΟ ΚΑΘΑΡΙΣΜΟΥ
A6: α | B6: Κλιμακο στάσια | C6: =C7 -> 1200 | D6: α1) | E6: Βασικός | H6: =Τιμές!D3 -> 0.0215 | K6: =ROUND($C6*(SUMPRODUCT(G$3:J$3,G6:J6)),4) -> 567.6 | O6: =ROUND(12*(K6+$C6*(SUMPRODUCT(L$3:N$3,L6:N6))),4) -> 6811.2
C7: =Ε1!B5+Ε2!B5+Ε3!B5+Ε4!B5 -> 1200 | D7: α2) | E7: Περιοδικός | J7: =Τιμές!F3 -> 0.035 | K7: =ROUND($C7*(SUMPRODUCT(G$3:J$3,G7:J7)),4) -> 42 | O7: =ROUND(12*(K7+$C7*(SUMPRODUCT(L$3:N$3,L7:N7))),4) -> 504
C8: =C7 -> 1200 | D8: α3) | E8: Γενικός | K8: =ROUND($C8*(SUMPRODUCT(G$3:J$3,G8:J8)),4) -> 0 | N8: =Τιμές!H3 -> 0.0525 | O8: =ROUND(12*(K8+$C8*(SUMPRODUCT(L$3:N$3,L8:N8))),4) -> 63
A9: β | B9: Κοινόχρηστοι Χώροι (διάδρομοι φουαγιέ σύνολο 2.918m2) | C9: =C11 -> 2918 | D9: β1) | E9: Βασικός | H9: =Τιμές!D4 -> 0.021 | K9: =ROUND($C9*(SUMPRODUCT(G$3:J$3,G9:J9)),4) -> 1348.116 | O9: =ROUND(12*(K9+$C9*(SUMPRODUCT(L$3:N$3,L9:N9))),4) -> 16177.392
C10: 150 | D10: β2) | E10: Περιοδικός 1 | I10: =Τιμές!D4 -> 0.021 | K10: =ROUND($C10*(SUMPRODUCT(G$3:J$3,G10:J10)),4) -> 15.75 | O10: =ROUND(12*(K10+$C10*(SUMPRODUCT(L$3:N$3,L10:N10))),4) -> 189
C11: =Ε1!B6+Ε2!B6+Ε3!B6+Ε4!B6 -> 2918 | D11: β3) | E11: Περιοδικός 2 | J11: =Τιμές!F4 -> 0.0305 | K11: =ROUND($C11*(SUMPRODUCT(G$3:J$3,G11:J11)),4) -> 88.999 | O11: =ROUND(12*(K11+$C11*(SUMPRODUCT(L$3:N$3,L11:N11))),4) -> 1067.988
C12: =C11 -> 2918 | D12: β4) | E12: Γενικός | K12: =ROUND($C12*(SUMPRODUCT(G$3:J$3,G12:J12)),4) -> 0 | N12: =Τιμές!H4 -> 0.0315 | O12: =ROUND(12*(K12+$C12*(SUMPRODUCT(L$3:N$3,L12:N12))),4) -> 91.917
A13: γ | B13: Γραφεία εκτός εργαστηρίων | C13: =C14 -> 1875 | D13: γ1) | E13: Βασικός | H13: =Τιμές!D5 -> 0.0315 | K13: =ROUND($C13*(SUMPRODUCT(G$3:J$3,G13:J13)),4) -> 1299.375 | O13: =ROUND(12*(K13+$C13*(SUMPRODUCT(L$3:N$3,L13:N13))),4) -> 15592.5
C14: =Ε1!B7+Ε2!B7+Ε3!B7+Ε4!B7 -> 1875 | D14: γ2) | E14: Περιοδικός | J14: =Τιμές!F5 -> 0.0263 | K14: =ROUND($C14*(SUMPRODUCT(G$3:J$3,G14:J14)),4) -> 49.3125 | O14: =ROUND(12*(K14+$C14*(SUMPRODUCT(L$3:N$3,L14:N14))),4) -> 591.75
C15: =C14 -> 1875 | D15: γ3) | E15: Γενικός | K15: =ROUND($C15*(SUMPRODUCT(G$3:J$3,G15:J15)),4) -> 0 | N15: =Τιμές!H5 -> 0.0315 | O15: =ROUND(12*(K15+$C15*(SUMPRODUCT(L$3:N$3,L15:N15))),4) -> 59.0625
A16: δ | B16: Τουαλέτες (σύνολο 354m2) | C16: =Ε1!B8+Ε2!B8+Ε3!B8+Ε4!B8 -> 354 | D16: δ1) | E16: Βασικός | G16: =Τιμές!D6 -> 0.0284 | K16: =ROUND($C16*(SUMPRODUCT(G$3:J$3,G16:J16)),4) -> 442.3584 | O16: =ROUND(12*(K16+$C16*(SUMPRODUCT(L$3:N$3,L16:N16))),4) -> 5308.3008
C17: 150 | D17: δ2) | E17: Περιοδικός | I17: =Τιμές!F6 -> 0.021 | K17: =ROUND($C17*(SUMPRODUCT(G$3:J$3,G17:J17)),4) -> 15.75 | O17: =ROUND(12*(K17+$C17*(SUMPRODUCT(L$3:N$3,L17:N17))),4) -> 189
C18: =C16 -> 354 | D18: δ3) | E18: Γενικός | K18: =ROUND($C18*(SUMPRODUCT(G$3:J$3,G18:J18)),4) -> 0 | M18: =Τιμές!H6 -> 0.84 | O18: =ROUND(12*(K18+$C18*(SUMPRODUCT(L$3:N$3,L18:N18))),4) -> 594.72
A19: ε | B19: Εργαστήρια (σύνολο 2.941m2) | C19: =Ε1!B9+Ε2!B9+Ε3!B9+Ε4!B9 -> 2941 | D19: ε1) | E19: Βασικός | H19: =Τιμές!D7 -> 0.042 | K19: =ROUND($C19*(SUMPRODUCT(G$3:J$3,G19:J19)),4) -> 2717.484 | O19: =ROUND(12*(K19+$C19*(SUMPRODUCT(L$3:N$3,L19:N19))),4) -> 32609.808
C20: 200 | D20: ε2) | E20: Περιοδικός | J20: =Τιμές!F7 -> 0.0525 | K20: =ROUND($C20*(SUMPRODUCT(G$3:J$3,G20:J20)),4) -> 10.5 | O20: =ROUND(12*(K20+$C20*(SUMPRODUCT(L$3:N$3,L20:N20))),4) -> 126
C21: =C19 -> 2941 | D21: ε3) | E21: Γενικός | K21: =ROUND($C21*(SUMPRODUCT(G$3:J$3,G21:J21)),4) -> 0 | N21: =Τιμές!H7 -> 0.1575 | O21: =ROUND(12*(K21+$C21*(SUMPRODUCT(L$3:N$3,L21:N21))),4) -> 463.2075
A22: στ | B22: Πτέρυγα Χειρουργείων (σύνολο 1.100m2) | C22: 132 | D22: στ1) | E22: Βασικός | I22: =Τιμές!D8 -> 0.042 | K22: =ROUND($C22*(SUMPRODUCT(G$3:J$3,G22:J22)),4) -> 27.72 | O22: =ROUND(12*(K22+$C22*(SUMPRODUCT(L$3:N$3,L22:N22))),4) -> 332.64
C23: =Ε1!B10+Ε2!B10+Ε3!B10+Ε4!B10 -> 1100 | D23: στ2) | E23: Περιοδικός | K23: =ROUND($C23*(SUMPRODUCT(G$3:J$3,G23:J23)),4) -> 0 | M23: =Τιμές!F8 -> 0.0735 | O23: =ROUND(12*(K23+$C23*(SUMPRODUCT(L$3:N$3,L23:N23))),4) -> 161.7
A24: ζ | B24: Διαδρομος επικοινωνίας ΜΖΠ | C24: =Ε1!B11+Ε2!B11+Ε3!B11+Ε4!B11 -> 87 | D24: ζ1) | E24: Βασικός | I24: =Τιμές!D9 -> 0.0315 | K24: =ROUND($C24*(SUMPRODUCT(G$3:J$3,G24:J24)),4) -> 13.7025 | O24: =ROUND(12*(K24+$C24*(SUMPRODUCT(L$3:N$3,L24:N24))),4) -> 164.43
A25: η | B25: Μονάδα PET camera | C25: =C26 -> 240 | D25: η1) | E25: Βασικός | H25: =Τιμές!D10 -> 0.042 | K25: =ROUND($C25*(SUMPRODUCT(G$3:J$3,G25:J25)),4) -> 221.76 | O25: =ROUND(12*(K25+$C25*(SUMPRODUCT(L$3:N$3,L25:N25))),4) -> 2661.12
C26: =Ε1!B12+Ε2!B12+Ε3!B12+Ε4!B12 -> 240 | D26: η2) | E26: Περιοδικός | I26: =Τιμές!F10 -> 0.0525 | K26: =ROUND($C26*(SUMPRODUCT(G$3:J$3,G26:J26)),4) -> 63 | O26: =ROUND(12*(K26+$C26*(SUMPRODUCT(L$3:N$3,L26:N26))),4) -> 756
C27: =C26 -> 240 | D27: η3) | E27: Γενικός | K27: =ROUND($C27*(SUMPRODUCT(G$3:J$3,G27:J27)),4) -> 0 | N27: =Τιμές!H10 -> 0.126 | O27: =ROUND(12*(K27+$C27*(SUMPRODUCT(L$3:N$3,L27:N27))),4) -> 30.24
A28: θ | B28: Αμφιθέατρο | C28: =Ε1!B13+Ε2!B13+Ε3!B13+Ε4!B13 -> 470 | D28: θ1) | E28: Βασικός | J28: =Τιμές!D11 -> 0.0735 | K28: =ROUND($C28*(SUMPRODUCT(G$3:J$3,G28:J28)),4) -> 34.545 | O28: =ROUND(12*(K28+$C28*(SUMPRODUCT(L$3:N$3,L28:N28))),4) -> 414.54
C29: =C28 -> 470 | D29: θ2) | E29: Γενικός | K29: =ROUND($C29*(SUMPRODUCT(G$3:J$3,G29:J29)),4) -> 0 | N29: =Τιμές!H11 -> 0.105 | O29: =ROUND(12*(K29+$C29*(SUMPRODUCT(L$3:N$3,L29:N29))),4) -> 49.35
A30: ι | B30: Αίθουσες Σεμιναρίων | C30: =C31 -> 290 | D30: ι1) | E30: Βασικός | H30: =Τιμές!D12 -> 0.0263 | K30: =ROUND($C30*(SUMPRODUCT(G$3:J$3,G30:J30)),4) -> 167.794 | O30: =ROUND(12*(K30+$C30*(SUMPRODUCT(L$3:N$3,L30:N30))),4) -> 2013.528
C31: =Ε1!B14+Ε2!B14+Ε3!B14+Ε4!B14 -> 290 | D31: ι2) | E31: Περιοδικός | J31: =Τιμές!F12 -> 0.0315 | K31: =ROUND($C31*(SUMPRODUCT(G$3:J$3,G31:J31)),4) -> 9.135 | O31: =ROUND(12*(K31+$C31*(SUMPRODUCT(L$3:N$3,L31:N31))),4) -> 109.62
C32: =C31 -> 290 | D32: ι3) | E32: Γενικός | K32: =ROUND($C32*(SUMPRODUCT(G$3:J$3,G32:J32)),4) -> 0 | N32: =Τιμές!H12 -> 0.0525 | O32: =ROUND(12*(K32+$C32*(SUMPRODUCT(L$3:N$3,L32:N32))),4) -> 15.225
A33: ια | B33: Βιβλιοθήκη | C33: =C34 -> 160 | D33: ια1) | E33: Βασικός | H33: =Τιμές!D13 -> 0.0263 | K33: =ROUND($C33*(SUMPRODUCT(G$3:J$3,G33:J33)),4) -> 92.576 | O33: =ROUND(12*(K33+$C33*(SUMPRODUCT(L$3:N$3,L33:N33))),4) -> 1110.912
C34: =Ε1!B15+Ε2!B15+Ε3!B15+Ε4!B15 -> 160 | D34: ια2) | E34: Περιοδικός | J34: =Τιμές!F13 -> 0.0315 | K34: =ROUND($C34*(SUMPRODUCT(G$3:J$3,G34:J34)),4) -> 5.04 | O34: =ROUND(12*(K34+$C34*(SUMPRODUCT(L$3:N$3,L34:N34))),4) -> 60.48
C35: =C34 -> 160 | D35: ια3) | E35: Γενικός | K35: =ROUND($C35*(SUMPRODUCT(G$3:J$3,G35:J35)),4) -> 0 | N35: =Τιμές!H13 -> 0.084 | O35: =ROUND(12*(K35+$C35*(SUMPRODUCT(L$3:N$3,L35:N35))),4) -> 13.44
A36: ιβ | B36: Κυλικείο (τραπεζαρία) | C36: =Ε1!B16+Ε2!B16+Ε3!B16+Ε4!B16 -> 185 | D36: ιβ1) | E36: Βασικός | I36: =Τιμές!D14 -> 0.0263 | K36: =ROUND($C36*(SUMPRODUCT(G$3:J$3,G36:J36)),4) -> 24.3275 | O36: =ROUND(12*(K36+$C36*(SUMPRODUCT(L$3:N$3,L36:N36))),4) -> 291.93
C37: =C36 -> 185 | D37: ιβ2) | E37: Περιοδικός | J37: =Τιμές!F14 -> 0.0735 | K37: =ROUND($C37*(SUMPRODUCT(G$3:J$3,G37:J37)),4) -> 13.5975 | O37: =ROUND(12*(K37+$C37*(SUMPRODUCT(L$3:N$3,L37:N37))),4) -> 163.17
A38: ιβ΄ | B38: Κυλικείο (κουζίνα) | C38: =Ε1!B17+Ε2!B17+Ε3!B17+Ε4!B17 -> 40 | D38: ιβ' 1) | E38: Γενικός | K38: =ROUND($C38*(SUMPRODUCT(G$3:J$3,G38:J38)),4) -> 0 | N38: =Τιμές!H15 -> 0.0735 | O38: =ROUND(12*(K38+$C38*(SUMPRODUCT(L$3:N$3,L38:N38))),4) -> 2.94
A39: ιγ | B39: Ανελκυστήρες | C39: =Ε1!B18+Ε2!B18+Ε3!B18+Ε4!B18 -> 43 | D39: ιγ1) | E39: Βασικός | H39: =Τιμές!D16 -> 0.0063 | K39: =ROUND($C39*(SUMPRODUCT(G$3:J$3,G39:J39)),4) -> 5.9598 | O39: =ROUND(12*(K39+$C39*(SUMPRODUCT(L$3:N$3,L39:N39))),4) -> 71.5176
A40: ιδ | B40: Ημιυπαίθριοι χώροι | C40: =Ε1!B19+Ε2!B19+Ε3!B19+Ε4!B19 -> 845 | D40: ιδ1) | E40: Βασικός | H40: =Τιμές!D17 -> 0.021 | K40: =ROUND($C40*(SUMPRODUCT(G$3:J$3,G40:J40)),4) -> 390.39 | O40: =ROUND(12*(K40+$C40*(SUMPRODUCT(L$3:N$3,L40:N40))),4) -> 4684.68
C41: =C40 -> 845 | D41: ιδ2) | E41: Περιοδικός | J41: =Τιμές!F17 -> 0.0315 | K41: =ROUND($C41*(SUMPRODUCT(G$3:J$3,G41:J41)),4) -> 26.6175 | O41: =ROUND(12*(K41+$C41*(SUMPRODUCT(L$3:N$3,L41:N41))),4) -> 319.41
...

Sheet Πίνακας Δ3_ΔΙΑΚΗΡΥΞΗΣ
A2: ΚΑΘΑΡΙΣΜΟΣ ΚΤΗΡΙΑΚΩΝ ΕΓΚΑΤΑΣΤΑΣΕΩΝ ΙΙΒΕΑΑ: ΤΜΗΜΑ Α
G3: 44 | H3: 22 | I3: 5 | J3: 1 | K3: ΣΥΝΟΛΙΚΗ ΜΗΝΙΑΙΑ ΔΑΠΑΝΗ ΣΕ ΕΥΡΩ | L3: =3/12 -> 0.25 | M3: =2/12 -> 0.16666667 | N3: =1/12 -> 0.083333333 | O3: ΣΥΝΟΛΙΚΗ ΕΤΗΣΙΑ ΔΑΠΑΝΗ ΣΕ ΕΥΡΩ
A4: ΠΡΟΓΡΑΜΜΑΤΙΣΜΟΣ ΚΑΘΑΡΙΣΜΟΥ ΧΩΡΩΝ ΙΙΒΕΑΑ 2023 - 2024 | G4: σαράντα τέσσερις φορές το μήνα | H4: είκοσι δύο φορές το μήνα | I4: πέντε φορές το μήνα | J4: μία φορά το μήνα | L4: κάθε τέσσερις μήνες | M4: κάθε έξι μήνες | N4: κάθε δώδεκα μήνες
A5: Α/Α | B5: ΚΑΤΗΓΟΡΙΕΣ ΧΩΡΩΝ | C5: ΚΑΘΑΡΕΣ ΕΠΙΦΑΝΕΙΕΣ (τ.μ.) | D5: ΕΙΔΟΣ ΚΑΘΑΡΙΣΜΟΥ | H5: ΠΡΟΣΦΕΡΟΜΕΝΗ ΤΙΜΗ ΜΟΝΑΔΑΣ ΣΕ ΕΥΡΩ ΑΝΑ Τ.Μ., ΗΜΕΡΑ ΚΑΙ ΤΡΟΠΟ ΚΑΘΑΡΙΣΜΟΥ | L5: ΠΡΟΣΦΕΡΟΜΕΝΗ ΤΙΜΗ ΜΟΝΑΔΑΣ ΣΕ ΕΥΡΩ ΑΝΑ Τ.Μ., ΗΜΕΡΑ ΚΑΙ ΤΡΟΠΟ ΚΑΘΑΡΙΣΜΟΥ | M5: ΠΡΟΣΦΕΡΟΜΕΝΗ ΤΙΜΗ ΜΟΝΑΔΑΣ ΣΕ ΕΥΡΩ ΑΝΑ Τ.Μ., ΗΜΕΡΑ ΚΑΙ ΤΡΟΠΟ ΚΑΘΑΡΙΣΜΟΥ | N5: ΠΡΟΣΦΕΡΟΜΕΝΗ ΤΙΜΗ ΜΟΝΑΔΑΣ ΣΕ ΕΥΡΩ ΑΝΑ Τ.Μ., ΗΜΕΡΑ ΚΑΙ ΤΡΟΠΟ ΚΑΘΑΡΙΣΜΟΥ
A6: α | B6: Κλιμακο στάσια | C6: =C7 -> 1200 | D6: α1) | E6: Βασικός | H6: =Τιμές!D3 -> 0.0215 | K6: =ROUND($C6*(SUMPRODUCT(G$3:J$3,G6:J6)),4) -> 567.6 | O6: =ROUND(12*(K6+$C6*(SUMPRODUCT(L$3:N$3,L6:N6))),4) -> 6811.2
C7: =Ε1!B5+Ε2!B5+Ε3!B5+Ε4!B5 -> 1200 | D7: α2) | E7: Περιοδικός | J7: =Τιμές!F3 -> 0.035 | K7: =ROUND($C7*(SUMPRODUCT(G$3:J$3,G7:J7)),4) -> 42 | O7: =ROUND(12*(K7+$C7*(SUMPRODUCT(L$3:N$3,L7:N7))),4) -> 504
C8: =C7 -> 1200 | D8: α3) | E8: Γενικός | K8: =ROUND($C8*(SUMPRODUCT(G$3:J$3,G8:J8)),4) -> 0 | N8: =Τιμές!H3 -> 0.0525 | O8: =ROUND(12*(K8+$C8*(SUMPRODUCT(L$3:N$3,L8:N8))),4) -> 63
A9: β | B9: Κοινόχρηστοι Χώροι (διάδρομοι φουαγιέ σύνολο 2.918m2) | C9: =C11 -> 2918 | D9: β1) | E9: Βασικός | H9: =Τιμές!D4 -> 0.021 | K9: =ROUND($C9*(SUMPRODUCT(G$3:J$3,G9:J9)),4) -> 1348.116 | O9: =ROUND(12*(K9+$C9*(SUMPRODUCT(L$3:N$3,L9:N9))),4) -> 16177.392
C10: 150 | D10: β2) | E10: Περιοδικός 1 | I10: =Τιμές!D4 -> 0.021 | K10: =ROUND($C10*(SUMPRODUCT(G$3:J$3,G10:J10)),4) -> 15.75 | O10: =ROUND(12*(K10+$C10*(SUMPRODUCT(L$3:N$3,L10:N10))),4) -> 189
C11: =Ε1!B6+Ε2!B6+Ε3!B6+Ε4!B6 -> 2918 | D11: β3) | E11: Περιοδικός 2 | J11: =Τιμές!F4 -> 0.0305 | K11: =ROUND($C11*(SUMPRODUCT(G$3:J$3,G11:J11)),4) -> 88.999 | O11: =ROUND(12*(K11+$C11*(SUMPRODUCT(L$3:N$3,L11:N11))),4) -> 1067.988
C12: =C11 -> 2918 | D12: β4) | E12: Γενικός | K12: =ROUND($C12*(SUMPRODUCT(G$3:J$3,G12:J12)),4) -> 0 | N12: =Τιμές!H4 -> 0.0315 | O12: =ROUND(12*(K12+$C12*(SUMPRODUCT(L$3:N$3,L12:N12))),4) -> 91.917
A13: γ | B13: Γραφεία εκτός εργαστηρίων | C13: =C14 -> 1875 | D13: γ1) | E13: Βασικός | H13: =Τιμές!D5 -> 0.0315 | K13: =ROUND($C13*(SUMPRODUCT(G$3:J$3,G13:J13)),4) -> 1299.375 | O13: =ROUND(12*(K13+$C13*(SUMPRODUCT(L$3:N$3,L13:N13))),4) -> 15592.5
C14: =Ε1!B7+Ε2!B7+Ε3!B7+Ε4!B7 -> 1875 | D14: γ2) | E14: Περιοδικός | J14: =Τιμές!F5 -> 0.0263 | K14: =ROUND($C14*(SUMPRODUCT(G$3:J$3,G14:J14)),4) -> 49.3125 | O14: =ROUND(12*(K14+$C14*(SUMPRODUCT(L$3:N$3,L14:N14))),4) -> 591.75
C15: =C14 -> 1875 | D15: γ3) | E15: Γενικός | K15: =ROUND($C15*(SUMPRODUCT(G$3:J$3,G15:J15)),4) -> 0 | N15: =Τιμές!H5 -> 0.0315 | O15: =ROUND(12*(K15+$C15*(SUMPRODUCT(L$3:N$3,L15:N15))),4) -> 59.0625
A16: δ | B16: Τουαλέτες (σύνολο 354m2) | C16: =Ε1!B8+Ε2!B8+Ε3!B8+Ε4!B8 -> 354 | D16: δ1) | E16: Βασικός | G16: =Τιμές!D6 -> 0.0284 | K16: =ROUND($C16*(SUMPRODUCT(G$3:J$3,G16:J16)),4) -> 442.3584 | O16: =ROUND(12*(K16+$C16*(SUMPRODUCT(L$3:N$3,L16:N16))),4) -> 5308.3008
C17: 150 | D17: δ2) | E17: Περιοδικός | I17: =Τιμές!F6 -> 0.021 | K17: =ROUND($C17*(SUMPRODUCT(G$3:J$3,G17:J17)),4) -> 15.75 | O17: =ROUND(12*(K17+$C17*(SUMPRODUCT(L$3:N$3,L17:N17))),4) -> 189
C18: =C16 -> 354 | D18: δ3) | E18: Γενικός | K18: =ROUND($C18*(SUMPRODUCT(G$3:J$3,G18:J18)),4) -> 0 | M18: =Τιμές!H6 -> 0.84 | O18: =ROUND(12*(K18+$C18*(SUMPRODUCT(L$3:N$3,L18:N18))),4) -> 594.72
A19: ε | B19: Εργαστήρια (σύνολο 2.941m2) | C19: =Ε1!B9+Ε2!B9+Ε3!B9+Ε4!B9 -> 2941 | D19: ε1) | E19: Βασικός | H19: =Τιμές!D7 -> 0.042 | K19: =ROUND($C19*(SUMPRODUCT(G$3:J$3,G19:J19)),4) -> 2717.484 | O19: =ROUND(12*(K19+$C19*(SUMPRODUCT(L$3:N$3,L19:N19))),4) -> 32609.808
C20: 200 | D20: ε2) | E20: Περιοδικός | J20: =Τιμές!F7 -> 0.0525 | K20: =ROUND($C20*(SUMPRODUCT(G$3:J$3,G20:J20)),4) -> 10.5 | O20: =ROUND(12*(K20+$C20*(SUMPRODUCT(L$3:N$3,L20:N20))),4) -> 126
C21: =C19 -> 2941 | D21: ε3) | E21: Γενικός | K21: =ROUND($C21*(SUMPRODUCT(G$3:J$3,G21:J21)),4) -> 0 | N21: =Τιμές!H7 -> 0.1575 | O21: =ROUND(12*(K21+$C21*(SUMPRODUCT(L$3:N$3,L21:N21))),4) -> 463.2075
A22: στ | B22: Πτέρυγα Χειρουργείων (σύνολο 1.100m2) | C22: 132 | D22: στ1) | E22: Βασικός | I22: =Τιμές!D8 -> 0.042 | K22: =ROUND($C22*(SUMPRODUCT(G$3:J$3,G22:J22)),4) -> 27.72 | O22: =ROUND(12*(K22+$C22*(SUMPRODUCT(L$3:N$3,L22:N22))),4) -> 332.64
C23: =Ε1!B10+Ε2!B10+Ε3!B10+Ε4!B10 -> 1100 | D23: στ2) | E23: Περιοδικός | K23: =ROUND($C23*(SUMPRODUCT(G$3:J$3,G23:J23)),4) -> 0 | M23: =Τιμές!F8 -> 0.0735 | O23: =ROUND(12*(K23+$C23*(SUMPRODUCT(L$3:N$3,L23:N23))),4) -> 161.7
A24: ζ | B24: Διαδρομος επικοινωνίας ΜΖΠ | C24: =Ε1!B11+Ε2!B11+Ε3!B11+Ε4!B11 -> 87 | D24: ζ1) | E24: Βασικός | I24: =Τιμές!D9 -> 0.0315 | K24: =ROUND($C24*(SUMPRODUCT(G$3:J$3,G24:J24)),4) -> 13.7025 | O24: =ROUND(12*(K24+$C24*(SUMPRODUCT(L$3:N$3,L24:N24))),4) -> 164.43
A25: η | B25: Μονάδα PET camera | C25: =C26 -> 240 | D25: η1) | E25: Βασικός | H25: =Τιμές!D10 -> 0.042 | K25: =ROUND($C25*(SUMPRODUCT(G$3:J$3,G25:J25)),4) -> 221.76 | O25: =ROUND(12*(K25+$C25*(SUMPRODUCT(L$3:N$3,L25:N25))),4) -> 2661.12
C26: =Ε1!B12+Ε2!B12+Ε3!B12+Ε4!B12 -> 240 | D26: η2) | E26: Περιοδικός | I26: =Τιμές!F10 -> 0.0525 | K26: =ROUND($C26*(SUMPRODUCT(G$3:J$3,G26:J26)),4) -> 63 | O26: =ROUND(12*(K26+$C26*(SUMPRODUCT(L$3:N$3,L26:N26))),4) -> 756
C27: =C26 -> 240 | D27: η3) | E27: Γενικός | K27: =ROUND($C27*(SUMPRODUCT(G$3:J$3,G27:J27)),4) -> 0 | N27: =Τιμές!H10 -> 0.126 | O27: =ROUND(12*(K27+$C27*(SUMPRODUCT(L$3:N$3,L27:N27))),4) -> 30.24
A28: θ | B28: Αμφιθέατρο | C28: =Ε1!B13+Ε2!B13+Ε3!B13+Ε4!B13 -> 470 | D28: θ1) | E28: Βασικός | J28: =Τιμές!D11 -> 0.0735 | K28: =ROUND($C28*(SUMPRODUCT(G$3:J$3,G28:J28)),4) -> 34.545 | O28: =ROUND(12*(K28+$C28*(SUMPRODUCT(L$3:N$3,L28:N28))),4) -> 414.54
C29: =C28 -> 470 | D29: θ2) | E29: Γενικός | K29: =ROUND($C29*(SUMPRODUCT(G$3:J$3,G29:J29)),4) -> 0 | N29: =Τιμές!H11 -> 0.105 | O29: =ROUND(12*(K29+$C29*(SUMPRODUCT(L$3:N$3,L29:N29))),4) -> 49.35
A30: ι | B30: Αίθουσες Σεμιναρίων | C30: =C31 -> 290 | D30: ι1) | E30: Βασικός | H30: =Τιμές!D12 -> 0.0263 | K30: =ROUND($C30*(SUMPRODUCT(G$3:J$3,G30:J30)),4) -> 167.794 | O30: =ROUND(12*(K30+$C30*(SUMPRODUCT(L$3:N$3,L30:N30))),4) -> 2013.528
C31: =Ε1!B14+Ε2!B14+Ε3!B14+Ε4!B14 -> 290 | D31: ι2) | E31: Περιοδικός | J31: =Τιμές!F12 -> 0.0315 | K31: =ROUND($C31*(SUMPRODUCT(G$3:J$3,G31:J31)),4) -> 9.135 | O31: =ROUND(12*(K31+$C31*(SUMPRODUCT(L$3:N$3,L31:N31))),4) -> 109.62
C32: =C31 -> 290 | D32: ι3) | E32: Γενικός | K32: =ROUND($C32*(SUMPRODUCT(G$3:J$3,G32:J32)),4) -> 0 | N32: =Τιμές!H12 -> 0.0525 | O32: =ROUND(12*(K32+$C32*(SUMPRODUCT(L$3:N$3,L32:N32))),4) -> 15.225
A33: ια | B33: Βιβλιοθήκη | C33: =C34 -> 160 | D33: ια1) | E33: Βασικός | H33: =Τιμές!D13 -> 0.0263 | K33: =ROUND($C33*(SUMPRODUCT(G$3:J$3,G33:J33)),4) -> 92.576 | O33: =ROUND(12*(K33+$C33*(SUMPRODUCT(L$3:N$3,L33:N33))),4) -> 1110.912
C34: =Ε1!B15+Ε2!B15+Ε3!B15+Ε4!B15 -> 160 | D34: ια2) | E34: Περιοδικός | J34: =Τιμές!F13 -> 0.0315 | K34: =ROUND($C34*(SUMPRODUCT(G$3:J$3,G34:J34)),4) -> 5.04 | O34: =ROUND(12*(K34+$C34*(SUMPRODUCT(L$3:N$3,L34:N34))),4) -> 60.48
C35: =C34 -> 160 | D35: ια3) | E35: Γενικός | K35: =ROUND($C35*(SUMPRODUCT(G$3:J$3,G35:J35)),4) -> 0 | N35: =Τιμές!H13 -> 0.084 | O35: =ROUND(12*(K35+$C35*(SUMPRODUCT(L$3:N$3,L35:N35))),4) -> 13.44
A36: ιβ | B36: Κυλικείο (τραπεζαρία) | C36: =Ε1!B16+Ε2!B16+Ε3!B16+Ε4!B16 -> 185 | D36: ιβ1) | E36: Βασικός | I36: =Τιμές!D14 -> 0.0263 | K36: =ROUND($C36*(SUMPRODUCT(G$3:J$3,G36:J36)),4) -> 24.3275 | O36: =ROUND(12*(K36+$C36*(SUMPRODUCT(L$3:N$3,L36:N36))),4) -> 291.93
C37: =C36 -> 185 | D37: ιβ2) | E37: Περιοδικός | J37: =Τιμές!F14 -> 0.0735 | K37: =ROUND($C37*(SUMPRODUCT(G$3:J$3,G37:J37)),4) -> 13.5975 | O37: =ROUND(12*(K37+$C37*(SUMPRODUCT(L$3:N$3,L37:N37))),4) -> 163.17
A38: ιβ΄ | B38: Κυλικείο (κουζίνα) | C38: =Ε1!B17+Ε2!B17+Ε3!B17+Ε4!B17 -> 40 | D38: ιβ' 1) | E38: Γενικός | K38: =ROUND($C38*(SUMPRODUCT(G$3:J$3,G38:J38)),4) -> 0 | N38: =Τιμές!H15 -> 0.0735 | O38: =ROUND(12*(K38+$C38*(SUMPRODUCT(L$3:N$3,L38:N38))),4) -> 2.94
A39: ιγ | B39: Ανελκυστήρες | C39: =Ε1!B18+Ε2!B18+Ε3!B18+Ε4!B18 -> 43 | D39: ιγ1) | E39: Βασικός | H39: =Τιμές!D16 -> 0.0063 | K39: =ROUND($C39*(SUMPRODUCT(G$3:J$3,G39:J39)),4) -> 5.9598 | O39: =ROUND(12*(K39+$C39*(SUMPRODUCT(L$3:N$3,L39:N39))),4) -> 71.5176
A40: ιδ | B40: Ημιυπαίθριοι χώροι | C40: =Ε1!B19+Ε2!B19+Ε3!B19+Ε4!B19 -> 845 | D40: ιδ1) | E40: Βασικός | H40: =Τιμές!D17 -> 0.021 | K40: =ROUND($C40*(SUMPRODUCT(G$3:J$3,G40:J40)),4) -> 390.39 | O40: =ROUND(12*(K40+$C40*(SUMPRODUCT(L$3:N$3,L40:N40))),4) -> 4684.68
C41: =C40 -> 845 | D41: ιδ2) | E41: Περιοδικός | J41: =Τιμές!F17 -> 0.0315 | K41: =ROUND($C41*(SUMPRODUCT(G$3:J$3,G41:J41)),4) -> 26.6175 | O41: =ROUND(12*(K41+$C41*(SUMPRODUCT(L$3:N$3,L41:N41))),4) -> 319.41
...
